BEGIN:VCALENDAR
VERSION:2.0
PRODID:-//Outer Banks Relief Foundation - ECPv6.15.16//NONSGML v1.0//EN
CALSCALE:GREGORIAN
METHOD:PUBLISH
X-ORIGINAL-URL:https://obrf.org
X-WR-CALDESC:Events for Outer Banks Relief Foundation
REFRESH-INTERVAL;VALUE=DURATION:PT1H
X-Robots-Tag:noindex
X-PUBLISHED-TTL:PT1H
BEGIN:VTIMEZONE
TZID:America/New_York
BEGIN:DAYLIGHT
TZOFFSETFROM:-0500
TZOFFSETTO:-0400
TZNAME:EDT
DTSTART:20210314T070000
END:DAYLIGHT
BEGIN:STANDARD
TZOFFSETFROM:-0400
TZOFFSETTO:-0500
TZNAME:EST
DTSTART:20211107T060000
END:STANDARD
BEGIN:DAYLIGHT
TZOFFSETFROM:-0500
TZOFFSETTO:-0400
TZNAME:EDT
DTSTART:20220313T070000
END:DAYLIGHT
BEGIN:STANDARD
TZOFFSETFROM:-0400
TZOFFSETTO:-0500
TZNAME:EST
DTSTART:20221106T060000
END:STANDARD
BEGIN:DAYLIGHT
TZOFFSETFROM:-0500
TZOFFSETTO:-0400
TZNAME:EDT
DTSTART:20230312T070000
END:DAYLIGHT
BEGIN:STANDARD
TZOFFSETFROM:-0400
TZOFFSETTO:-0500
TZNAME:EST
DTSTART:20231105T060000
END:STANDARD
END:VTIMEZONE
BEGIN:VEVENT
DTSTART;TZID=America/New_York:20220507T110000
DTEND;TZID=America/New_York:20220507T150000
DTSTAMP:20260422T194551
CREATED:20200131T014345Z
LAST-MODIFIED:20220412T155031Z
UID:4776-1651921200-1651935600@obrf.org
SUMMARY:Couture by the Shore
DESCRIPTION:SOLD OUT \nCouture By The Shore\, Race for Relief\, will highlight the season’s newest and brightest fashions as we come together to raise funds for those in need.\n\nWe’d like to give a special shout-out to our retailers who help make Couture by the Shore an incredible fun-filled fashion event with purpose each year. Without their help\, we could not raise the funds necessary to support our mission. Let’s show them our support. \nBirthday Suits | Foxy Flamingo Boutique | Gray’s Sportswear | Hairoics | Life’s a Beach | Mango’s Boutique | Miss Lizzie’s | The French Door | Untucked | Whalebone Surf Shop | Zen & Zip\n \n\n\nThe 2019 Couture by the Shore event was a huge success! We are so grateful to our sponsors\, retail partners\, volunteers and guests for making it a fabulous event! Check out this video by Lori Douglas Photography for a re-cap. \n 
URL:https://obrf.org/event/couture-by-the-shore/
LOCATION:Duck Woods Country Club\, 50 S Dogwood Trl\, Kitty Hawk\, 27949\, United States
CATEGORIES:Outer Banks Relief Foundation Charity Events
ATTACH;FMTTYPE=image/jpeg:https://obrf.org/wp-content/uploads/2020/01/Couture-by-the-Shore-Race-for-Relief-2022-event.jpg
END:VEVENT
END:VCALENDAR