BEGIN:VCALENDAR
VERSION:2.0
PRODID:-//Outer Banks Relief Foundation - ECPv6.15.20//NONSGML v1.0//EN
CALSCALE:GREGORIAN
METHOD:PUBLISH
X-ORIGINAL-URL:https://obrf.org
X-WR-CALDESC:Events for Outer Banks Relief Foundation
REFRESH-INTERVAL;VALUE=DURATION:PT1H
X-Robots-Tag:noindex
X-PUBLISHED-TTL:PT1H
BEGIN:VTIMEZONE
TZID:America/New_York
BEGIN:DAYLIGHT
TZOFFSETFROM:-0500
TZOFFSETTO:-0400
TZNAME:EDT
DTSTART:20230312T070000
END:DAYLIGHT
BEGIN:STANDARD
TZOFFSETFROM:-0400
TZOFFSETTO:-0500
TZNAME:EST
DTSTART:20231105T060000
END:STANDARD
BEGIN:DAYLIGHT
TZOFFSETFROM:-0500
TZOFFSETTO:-0400
TZNAME:EDT
DTSTART:20240310T070000
END:DAYLIGHT
BEGIN:STANDARD
TZOFFSETFROM:-0400
TZOFFSETTO:-0500
TZNAME:EST
DTSTART:20241103T060000
END:STANDARD
BEGIN:DAYLIGHT
TZOFFSETFROM:-0500
TZOFFSETTO:-0400
TZNAME:EDT
DTSTART:20250309T070000
END:DAYLIGHT
BEGIN:STANDARD
TZOFFSETFROM:-0400
TZOFFSETTO:-0500
TZNAME:EST
DTSTART:20251102T060000
END:STANDARD
END:VTIMEZONE
BEGIN:VEVENT
DTSTART;TZID=America/New_York:20240912T120000
DTEND;TZID=America/New_York:20240912T170000
DTSTAMP:20260425T000212
CREATED:20240611T204459Z
LAST-MODIFIED:20240611T204808Z
UID:7375-1726142400-1726160400@obrf.org
SUMMARY:Kitty Hawk Rotary Club 2024 Fall Golf Classic
DESCRIPTION:Join the fun folks at the Kitty Hawk Rotary Club for a day of fun on the greens at Sea Scape Golf Links. Whether you’re a seasoned pro or just looking to have a good time\, this event is perfect for golf enthusiasts of all levels. Get ready to tee off and enjoy a day of friendly competition\, beautiful views\, and great company. \nAs the Kitty Hawk Rotary Club’s main fundraiser\, this year’s proceeds will benefit the Outer Banks Relief Foundation\, Beach Food Pantry\, and OBX Room in the Inn. \nClick Here to Register
URL:https://obrf.org/event/kitty-hawk-rotary-club-2024-fall-golf-classic/
LOCATION:Sea Scape Golf Links\, 300 W Eckner St\, Kitty Hawk\, NC\, 27949
CATEGORIES:Outer Banks Relief Foundation Charity Events
ATTACH;FMTTYPE=image/jpeg:https://obrf.org/wp-content/uploads/2024/06/Kitty-Hawk-Rotary-Club-2024-Fall-Golf-Classic-event.jpg
END:VEVENT
END:VCALENDAR