BEGIN:VCALENDAR
VERSION:2.0
PRODID:-//Outer Banks Relief Foundation - ECPv6.15.20//NONSGML v1.0//EN
CALSCALE:GREGORIAN
METHOD:PUBLISH
X-WR-CALNAME:Outer Banks Relief Foundation
X-ORIGINAL-URL:https://obrf.org
X-WR-CALDESC:Events for Outer Banks Relief Foundation
REFRESH-INTERVAL;VALUE=DURATION:PT1H
X-Robots-Tag:noindex
X-PUBLISHED-TTL:PT1H
BEGIN:VTIMEZONE
TZID:America/New_York
BEGIN:DAYLIGHT
TZOFFSETFROM:-0500
TZOFFSETTO:-0400
TZNAME:EDT
DTSTART:20230312T070000
END:DAYLIGHT
BEGIN:STANDARD
TZOFFSETFROM:-0400
TZOFFSETTO:-0500
TZNAME:EST
DTSTART:20231105T060000
END:STANDARD
BEGIN:DAYLIGHT
TZOFFSETFROM:-0500
TZOFFSETTO:-0400
TZNAME:EDT
DTSTART:20240310T070000
END:DAYLIGHT
BEGIN:STANDARD
TZOFFSETFROM:-0400
TZOFFSETTO:-0500
TZNAME:EST
DTSTART:20241103T060000
END:STANDARD
BEGIN:DAYLIGHT
TZOFFSETFROM:-0500
TZOFFSETTO:-0400
TZNAME:EDT
DTSTART:20250309T070000
END:DAYLIGHT
BEGIN:STANDARD
TZOFFSETFROM:-0400
TZOFFSETTO:-0500
TZNAME:EST
DTSTART:20251102T060000
END:STANDARD
END:VTIMEZONE
BEGIN:VEVENT
DTSTART;TZID=America/New_York:20240407T163000
DTEND;TZID=America/New_York:20240407T163000
DTSTAMP:20260423T194705
CREATED:20240329T184625Z
LAST-MODIFIED:20240329T184625Z
UID:7347-1712507400-1712507400@obrf.org
SUMMARY:Chair Yoga
DESCRIPTION:Chair Yoga by donation with proceeds to benefit the Outer Banks Relief Foundation \nhttps://www.instagram.com/p/C4raGCouM0F/?utm_source=ig_web_copy_link&igsh=MzRlODBiNWFlZA%3D%3D&img_index=1
URL:https://obrf.org/event/chair-yoga/
LOCATION:Kind Yoga\, 3105 N Croatan Hwy\, Unit 30\, Kill Devil Hills\, NC\, 27948
CATEGORIES:Outer Banks Relief Foundation Charity Events
ATTACH;FMTTYPE=image/jpeg:https://obrf.org/wp-content/uploads/2024/03/Chair-Yoga.jpg
END:VEVENT
END:VCALENDAR