BEGIN:VCALENDAR
VERSION:2.0
PRODID:-//Outer Banks Relief Foundation - ECPv6.15.20//NONSGML v1.0//EN
CALSCALE:GREGORIAN
METHOD:PUBLISH
X-ORIGINAL-URL:https://obrf.org
X-WR-CALDESC:Events for Outer Banks Relief Foundation
REFRESH-INTERVAL;VALUE=DURATION:PT1H
X-Robots-Tag:noindex
X-PUBLISHED-TTL:PT1H
BEGIN:VTIMEZONE
TZID:America/New_York
BEGIN:DAYLIGHT
TZOFFSETFROM:-0500
TZOFFSETTO:-0400
TZNAME:EDT
DTSTART:20240310T070000
END:DAYLIGHT
BEGIN:STANDARD
TZOFFSETFROM:-0400
TZOFFSETTO:-0500
TZNAME:EST
DTSTART:20241103T060000
END:STANDARD
BEGIN:DAYLIGHT
TZOFFSETFROM:-0500
TZOFFSETTO:-0400
TZNAME:EDT
DTSTART:20250309T070000
END:DAYLIGHT
BEGIN:STANDARD
TZOFFSETFROM:-0400
TZOFFSETTO:-0500
TZNAME:EST
DTSTART:20251102T060000
END:STANDARD
BEGIN:DAYLIGHT
TZOFFSETFROM:-0500
TZOFFSETTO:-0400
TZNAME:EDT
DTSTART:20260308T070000
END:DAYLIGHT
BEGIN:STANDARD
TZOFFSETFROM:-0400
TZOFFSETTO:-0500
TZNAME:EST
DTSTART:20261101T060000
END:STANDARD
BEGIN:DAYLIGHT
TZOFFSETFROM:-0500
TZOFFSETTO:-0400
TZNAME:EDT
DTSTART:20270314T070000
END:DAYLIGHT
BEGIN:STANDARD
TZOFFSETFROM:-0400
TZOFFSETTO:-0500
TZNAME:EST
DTSTART:20271107T060000
END:STANDARD
END:VTIMEZONE
BEGIN:VEVENT
DTSTART;VALUE=DATE:20251004
DTEND;VALUE=DATE:20251006
DTSTAMP:20260424T124640
CREATED:20210910T185157Z
LAST-MODIFIED:20250707T170818Z
UID:6870-1759536000-1759708799@obrf.org
SUMMARY:Which Craft Surf Gathering
DESCRIPTION:It’s a celebration of surf culture\, community\, and giving back! Join us for the annual surf contest fundraiser on October 4th & 5th at Jennette’s Pier. 100% of proceeds benefit the Outer Banks Relief Foundation. Visit https://www.instagram.com/which_craft_surf/ for more information.
URL:https://obrf.org/event/which-craft-surf-gathering/
LOCATION:Jennette’s Pier\, 7223 S Virginia Dare Trail\, Nags Head\, 27959
CATEGORIES:Outer Banks Relief Foundation Charity Events
ATTACH;FMTTYPE=image/jpeg:https://obrf.org/wp-content/uploads/2021/09/Whichcraft-Surf-Gathering-2025-Event-.jpg
END:VEVENT
BEGIN:VEVENT
DTSTART;TZID=America/New_York:20260509T110000
DTEND;TZID=America/New_York:20260509T150000
DTSTAMP:20260424T124640
CREATED:20220603T203458Z
LAST-MODIFIED:20260224T175918Z
UID:7054-1778324400-1778338800@obrf.org
SUMMARY:Couture by the Shore
DESCRIPTION:Party Animal: Get Wild for Relief\n\nCouture by the Shore is an annual luncheon\, fashion show\, and silent auction shopping experience to support the Outer Banks Relief Foundation’s work assisting local families facing tragedies. \nTickets will be available for purchase beginning mid-April at Birthday Suits\, Bloom\, Foxy Flamingo\, French Door\, Hairoics Boutique\, Life’s A Beach\, Salty Skies\, Sojourn\, The Cottage Shop\, The Shop Boutique\, Untucked\, Whalebone Surf Shop. Follow instagram.com/obxcouture for event updates or call the Outer Banks Relief Foundation at 252-261-2004.\n\nWe’d like to give a special shout-out to our retailers who help make Couture by the Shore an incredible fun-filled fashion event with purpose each year. Without their help\, we could not raise the funds necessary to support our mission. Let’s show them our support.
URL:https://obrf.org/event/couture-by-the-shore-2026/
LOCATION:Duck Woods Country Club\, 50 S Dogwood Trl\, Kitty Hawk\, 27949\, United States
CATEGORIES:Outer Banks Relief Foundation Charity Events
ATTACH;FMTTYPE=image/jpeg:https://obrf.org/wp-content/uploads/2026/02/Couture-by-the-Shore-2026-event-ext.jpg
END:VEVENT
END:VCALENDAR