BEGIN:VCALENDAR
VERSION:2.0
PRODID:-//Outer Banks Relief Foundation - ECPv6.15.20//NONSGML v1.0//EN
CALSCALE:GREGORIAN
METHOD:PUBLISH
X-WR-CALNAME:Outer Banks Relief Foundation
X-ORIGINAL-URL:https://obrf.org
X-WR-CALDESC:Events for Outer Banks Relief Foundation
REFRESH-INTERVAL;VALUE=DURATION:PT1H
X-Robots-Tag:noindex
X-PUBLISHED-TTL:PT1H
BEGIN:VTIMEZONE
TZID:America/New_York
BEGIN:DAYLIGHT
TZOFFSETFROM:-0500
TZOFFSETTO:-0400
TZNAME:EDT
DTSTART:20190310T070000
END:DAYLIGHT
BEGIN:STANDARD
TZOFFSETFROM:-0400
TZOFFSETTO:-0500
TZNAME:EST
DTSTART:20191103T060000
END:STANDARD
BEGIN:DAYLIGHT
TZOFFSETFROM:-0500
TZOFFSETTO:-0400
TZNAME:EDT
DTSTART:20200308T070000
END:DAYLIGHT
BEGIN:STANDARD
TZOFFSETFROM:-0400
TZOFFSETTO:-0500
TZNAME:EST
DTSTART:20201101T060000
END:STANDARD
BEGIN:DAYLIGHT
TZOFFSETFROM:-0500
TZOFFSETTO:-0400
TZNAME:EDT
DTSTART:20210314T070000
END:DAYLIGHT
BEGIN:STANDARD
TZOFFSETFROM:-0400
TZOFFSETTO:-0500
TZNAME:EST
DTSTART:20211107T060000
END:STANDARD
END:VTIMEZONE
BEGIN:VEVENT
DTSTART;TZID=America/New_York:20200406T080000
DTEND;TZID=America/New_York:20200415T170000
DTSTAMP:20260425T081550
CREATED:20200406T190922Z
LAST-MODIFIED:20200406T190922Z
UID:5088-1586160000-1586970000@obrf.org
SUMMARY:Stay Strong Virtual Charity Race
DESCRIPTION:Help the Outer Banks Relief Foundation as the needs in our community are greater than ever.\nAnnouncing the Stay Strong virtual charity race by Precision Race. The event includes 1 mile\, 5K and 10K virtual race options that you can run on your own – outdoors or on a treadmill. \nHow does it work?  3 Easy Steps: \n\n\nRegister any time between April 2 – April 15.  During registration you will choose one of several non-profits. 100% of your registration fee will go to that non-profit.  That’s right\, 100%. We are not doing this to make money – we are doing this to let runners in our community help local non-profits during these challenging times.\nGo Run the distance you registered for any time between April 2 – April 15.  You may run outdoors or on a treadmill.  Note:  All current local municipality Stay at Home orders allow us to run outdoor (observing Social Distancing guidelines).\nSubmit your Time online. Runners submit their run time – this is EASY with our enhanced virtual race website at https://staystrong.itsyourrace.com/event.aspx?id=13446\nCool swag too!\nSwag
URL:https://obrf.org/event/stay-strong-virtual-charity-race/
CATEGORIES:Outer Banks Relief Foundation Charity Events
ATTACH;FMTTYPE=image/jpeg:https://obrf.org/wp-content/uploads/2020/04/running-strong.jpg
END:VEVENT
END:VCALENDAR