BEGIN:VCALENDAR
VERSION:2.0
PRODID:-//Outer Banks Relief Foundation - ECPv6.15.20//NONSGML v1.0//EN
CALSCALE:GREGORIAN
METHOD:PUBLISH
X-WR-CALNAME:Outer Banks Relief Foundation
X-ORIGINAL-URL:https://obrf.org
X-WR-CALDESC:Events for Outer Banks Relief Foundation
REFRESH-INTERVAL;VALUE=DURATION:PT1H
X-Robots-Tag:noindex
X-PUBLISHED-TTL:PT1H
BEGIN:VTIMEZONE
TZID:America/New_York
BEGIN:DAYLIGHT
TZOFFSETFROM:-0500
TZOFFSETTO:-0400
TZNAME:EDT
DTSTART:20230312T070000
END:DAYLIGHT
BEGIN:STANDARD
TZOFFSETFROM:-0400
TZOFFSETTO:-0500
TZNAME:EST
DTSTART:20231105T060000
END:STANDARD
BEGIN:DAYLIGHT
TZOFFSETFROM:-0500
TZOFFSETTO:-0400
TZNAME:EDT
DTSTART:20240310T070000
END:DAYLIGHT
BEGIN:STANDARD
TZOFFSETFROM:-0400
TZOFFSETTO:-0500
TZNAME:EST
DTSTART:20241103T060000
END:STANDARD
BEGIN:DAYLIGHT
TZOFFSETFROM:-0500
TZOFFSETTO:-0400
TZNAME:EDT
DTSTART:20250309T070000
END:DAYLIGHT
BEGIN:STANDARD
TZOFFSETFROM:-0400
TZOFFSETTO:-0500
TZNAME:EST
DTSTART:20251102T060000
END:STANDARD
BEGIN:DAYLIGHT
TZOFFSETFROM:-0500
TZOFFSETTO:-0400
TZNAME:EDT
DTSTART:20260308T070000
END:DAYLIGHT
BEGIN:STANDARD
TZOFFSETFROM:-0400
TZOFFSETTO:-0500
TZNAME:EST
DTSTART:20261101T060000
END:STANDARD
BEGIN:DAYLIGHT
TZOFFSETFROM:-0500
TZOFFSETTO:-0400
TZNAME:EDT
DTSTART:20270314T070000
END:DAYLIGHT
BEGIN:STANDARD
TZOFFSETFROM:-0400
TZOFFSETTO:-0500
TZNAME:EST
DTSTART:20271107T060000
END:STANDARD
END:VTIMEZONE
BEGIN:VEVENT
DTSTART;TZID=America/New_York:20240407T163000
DTEND;TZID=America/New_York:20240407T163000
DTSTAMP:20260423T195421
CREATED:20240329T184625Z
LAST-MODIFIED:20240329T184625Z
UID:7347-1712507400-1712507400@obrf.org
SUMMARY:Chair Yoga
DESCRIPTION:Chair Yoga by donation with proceeds to benefit the Outer Banks Relief Foundation \nhttps://www.instagram.com/p/C4raGCouM0F/?utm_source=ig_web_copy_link&igsh=MzRlODBiNWFlZA%3D%3D&img_index=1
URL:https://obrf.org/event/chair-yoga/
LOCATION:Kind Yoga\, 3105 N Croatan Hwy\, Unit 30\, Kill Devil Hills\, NC\, 27948
CATEGORIES:Outer Banks Relief Foundation Charity Events
ATTACH;FMTTYPE=image/jpeg:https://obrf.org/wp-content/uploads/2024/03/Chair-Yoga.jpg
END:VEVENT
BEGIN:VEVENT
DTSTART;TZID=America/New_York:20240601T080000
DTEND;TZID=America/New_York:20240601T140000
DTSTAMP:20260423T195421
CREATED:20240329T211746Z
LAST-MODIFIED:20240329T211746Z
UID:7352-1717228800-1717250400@obrf.org
SUMMARY:Driving Fore the Cure 2024
DESCRIPTION:This all-women’s golf tournament\, benefiting Outer Banks Health and the Outer Banks Relief Foundation\, has raised $332\,000 since 2012 to support local programs for women with breast and reproductive cancers. To participate in this event\, organized by the Nags Head Golf Links’ Links Ladies\, contact Kathleen Brehony\, kabrehony@gmail.com\, 252-423-0693.
URL:https://obrf.org/event/driving-fore-the-cure-2024/
LOCATION:Nags Head Golf Links\, 5615 S Seachase Dr\, Nags Head\, NC\, 27959
CATEGORIES:Outer Banks Relief Foundation Charity Events
ATTACH;FMTTYPE=image/jpeg:https://obrf.org/wp-content/uploads/2024/03/Driving-Fore-the-Cure-2024.jpg
END:VEVENT
BEGIN:VEVENT
DTSTART;TZID=America/New_York:20240627T173000
DTEND;TZID=America/New_York:20240627T203000
DTSTAMP:20260423T195421
CREATED:20240311T184628Z
LAST-MODIFIED:20240311T184628Z
UID:7304-1719509400-1719520200@obrf.org
SUMMARY:Sanctuary Vineyards Acoustic Sunset: Pier Pressure
DESCRIPTION:Sanctuary Vineyards Acoustic Sunset Wine Down Thursdays. June 27 will feature live music from Pier Pressure and 10% of the value of wine sales donated to the Outer Banks Relief Foundation. \nfacebook.com/pierpressure31
URL:https://obrf.org/event/sanctuary-vineyards-acoustic-sunset-pier-pressure/
LOCATION:Sanctuary Vineyards\, 7005 Caratoke Hwy\, Jarvisburg\, NC\, 27947
CATEGORIES:Outer Banks Relief Foundation Charity Events
ATTACH;FMTTYPE=image/jpeg:https://obrf.org/wp-content/uploads/2024/03/Acoustic-Sunset-event.jpg
END:VEVENT
BEGIN:VEVENT
DTSTART;VALUE=DATE:20240705
DTEND;VALUE=DATE:20240728
DTSTAMP:20260423T195421
CREATED:20240311T170458Z
LAST-MODIFIED:20240311T170458Z
UID:7293-1720137600-1722124799@obrf.org
SUMMARY:Art Exhibit - Living Proof: Artistic Visions of Hope & Healing
DESCRIPTION:Art by regional artists whose lives have been impacted by cancer. Works will be displayed at Dare Arts\, 300 Queen Elizabeth Ave\, Manteo\, NC 27954 from July 5 until July 27. First Friday opening is reception on July 5\, 2024. All proceeds from sponsorships will be donated to the Outer Banks Relief Foundation for assistance to families facing cancer. \nVisit livingproofobx.com for more
URL:https://obrf.org/event/art-exhibit-living-proof-artistic-visions-of-hope-healing/
LOCATION:Dare Arts\, 300 Queen Elizabeth Ave\, Manteo\, NC\, 27954
CATEGORIES:Outer Banks Relief Foundation Charity Events
ATTACH;FMTTYPE=image/jpeg:https://obrf.org/wp-content/uploads/2024/03/Living-Proof-event.jpg
END:VEVENT
BEGIN:VEVENT
DTSTART;TZID=America/New_York:20240912T120000
DTEND;TZID=America/New_York:20240912T170000
DTSTAMP:20260423T195421
CREATED:20240611T204459Z
LAST-MODIFIED:20240611T204808Z
UID:7375-1726142400-1726160400@obrf.org
SUMMARY:Kitty Hawk Rotary Club 2024 Fall Golf Classic
DESCRIPTION:Join the fun folks at the Kitty Hawk Rotary Club for a day of fun on the greens at Sea Scape Golf Links. Whether you’re a seasoned pro or just looking to have a good time\, this event is perfect for golf enthusiasts of all levels. Get ready to tee off and enjoy a day of friendly competition\, beautiful views\, and great company. \nAs the Kitty Hawk Rotary Club’s main fundraiser\, this year’s proceeds will benefit the Outer Banks Relief Foundation\, Beach Food Pantry\, and OBX Room in the Inn. \nClick Here to Register
URL:https://obrf.org/event/kitty-hawk-rotary-club-2024-fall-golf-classic/
LOCATION:Sea Scape Golf Links\, 300 W Eckner St\, Kitty Hawk\, NC\, 27949
CATEGORIES:Outer Banks Relief Foundation Charity Events
ATTACH;FMTTYPE=image/jpeg:https://obrf.org/wp-content/uploads/2024/06/Kitty-Hawk-Rotary-Club-2024-Fall-Golf-Classic-event.jpg
END:VEVENT
BEGIN:VEVENT
DTSTART;VALUE=DATE:20241126
DTEND;VALUE=DATE:20250101
DTSTAMP:20260423T195421
CREATED:20241028T154332Z
LAST-MODIFIED:20241028T155300Z
UID:7434-1732579200-1735689599@obrf.org
SUMMARY:Misfits Bar Crawl
DESCRIPTION:Visit these 15 participating bars that will be all decked out with holiday cheer — Arts Place\, the Blue Crab Tavern\, Chili Peppers\, Kill Devil Grill\, Lost Colony Brewery\, Noosa Beach Grille\, Noosa Scoops\, Red Drum Grill Taphouse\, Sam & Omies\, South of KDG\, Swells ‘a Brewing\, Tap That\, Pony and the Boat\, The Saltbox Café\, TRIO — and purchase a Misfits bar crawl postcard. A portion of the proceeds from the postcards will go to Outer Banks Relief Foundation\, Inc. and assist local families experiencing tragedy. You collect stamps on your postcard at each bar from November 26 – December 31. If you grab all 15\, and you can enter a raffle for a chance to win great prizes!
URL:https://obrf.org/event/misfits-bar-crawl/
LOCATION:Multiple Locations\, United States
CATEGORIES:Outer Banks Relief Foundation Charity Events
ATTACH;FMTTYPE=image/jpeg:https://obrf.org/wp-content/uploads/2024/10/Misfits-Bar-Crawl.jpg
END:VEVENT
BEGIN:VEVENT
DTSTART;TZID=America/New_York:20241126T170000
DTEND;TZID=America/New_York:20241126T210000
DTSTAMP:20260423T195421
CREATED:20241028T154900Z
LAST-MODIFIED:20241028T154900Z
UID:7437-1732640400-1732654800@obrf.org
SUMMARY:Misfits Bar Crawl Kick-Off Party
DESCRIPTION:Yukon Cornelius & The Caboose with the square wheels will be having an Oyster Roast and live music to kick off the Misfits Bar Crawl season event in the Outer Banks! Oysters by Cousin’s Oysters and live music by BirdDog.
URL:https://obrf.org/event/misfits-bar-crawl-kick-off-party/
LOCATION:Kill Devil Grill\, 2008 S Virginia Dare Trail\, Kill Devil Hills\, NC\, 27948
CATEGORIES:Outer Banks Relief Foundation Charity Events
ATTACH;FMTTYPE=image/jpeg:https://obrf.org/wp-content/uploads/2024/10/Misfits-Kickoff-Night-thumb.jpg
END:VEVENT
BEGIN:VEVENT
DTSTART;TZID=America/New_York:20241219T180000
DTEND;TZID=America/New_York:20241219T180000
DTSTAMP:20260423T195421
CREATED:20240830T155303Z
LAST-MODIFIED:20241009T145653Z
UID:7410-1734631200-1734631200@obrf.org
SUMMARY:12 Bars of Christmas
DESCRIPTION:Outer Banks Relief Foundation Night at Poor Rudolph’s (Poor Richard’s) is on December 19th starting at 6:00 pm. A percent everything you spend all night long will be donated to the Outer Banks Relief Foundation. DJ Süsan will be giving us the beat. Come out and celebrate with us while raising funds for local families. \n**Buy your 12 Bars of Christmas Passport from Poor Rudolph’s any time so that your passport purchase is a direct donation to the Relief Foundation. Visit https://12barsofchristmas.com for more information.**
URL:https://obrf.org/event/12-bars-of-christmas/
LOCATION:Poor Richard’s Sandwich Shop\, 305 Queen Elizabeth Ave\, Manteo\, NC\, 27954
CATEGORIES:Outer Banks Relief Foundation Charity Events
ATTACH;FMTTYPE=image/jpeg:https://obrf.org/wp-content/uploads/2024/08/12-Bars-of-Christmas-Event.jpg
END:VEVENT
BEGIN:VEVENT
DTSTART;VALUE=DATE:20250326
DTEND;VALUE=DATE:20250327
DTSTAMP:20260423T195421
CREATED:20200131T013842Z
LAST-MODIFIED:20250108T221337Z
UID:4770-1742947200-1743033599@obrf.org
SUMMARY:Jersey Mike's Day of Giving
DESCRIPTION:Jersey Mike’s nationwide “Day of Giving” is Wednesday\, March 26th this year. \nOn the Day of Giving every dollar you spend at your local Jersey Mike’s — Southern Shores\, Nags Head and Manteo — is donated to the Outer Banks Relief Foundation. Yes\, every dollar! 100% of sales. \nLast year you raised just shy of $23\,000 on the Day of Giving (and had a great meal\, btw). \nYou and local Jersey Mike’s owners Shaun and Kelly Hayman and their amazing staff have lifted up local families to the tune of $85\,000 since 2016.
URL:https://obrf.org/event/jersey-mikes-day-of-giving/
LOCATION:Jersey Mike’s Subs\, 2424 South Croatan Highway Unit C\, Nags Head\, NC\, 27959\, United States
CATEGORIES:Outer Banks Relief Foundation Charity Events
ATTACH;FMTTYPE=image/jpeg:https://obrf.org/wp-content/uploads/2020/01/Jersey-Mikes-Day-of-Giving-event-2025.jpg
END:VEVENT
BEGIN:VEVENT
DTSTART;TZID=America/New_York:20250426T110000
DTEND;TZID=America/New_York:20250426T163000
DTSTAMP:20260423T195421
CREATED:20240325T165654Z
LAST-MODIFIED:20250121T174621Z
UID:7318-1745665200-1745685000@obrf.org
SUMMARY:Albemarle Area United Way's Bocce\, Beer & Bites
DESCRIPTION:The Outer Banks Relief Foundation is an Albemarle Area United Way (AAUQ) partner organization. \nJoin the AAUW for a fun-filled afternoon of bocce ball\, local craft beer and mouth-watering barbecue! The bracket-style Bocce Ball Tournament can include up to 40 teams (4 people each)\, so register your team today! If you’d rather watch\, cheer\, or just enjoy the music\, beer and food\, individual tickets are also available for purchase. \nAVAILABLE FOR PURCHASE NOW!\nTotal Event Ticket ($30) includes: \n\n1 BBQ meal with all the fixins from Currituck BBQ Company\n1 shaved ice from Kona Ice of Greenville\n2 craft beers from Ghost Harbor Brewing Company*\n\nREGISTER YOUR TEAM TODAY!\nTeam Entry includes: \n\nEntry for 4 players into the Bocce\, Beer and Bites Tournament\n4 Total Event Tickets (1 for each player – see above)\n\n*Beer only available for those 21 years old or older \nBring your lawn chair as there will be NO bleachers. Coolers are not allowed inside the event space; however\, there will be soda and water available to all attendees. \nWant to Volunteer?\nWe’ve got you covered! Just click here and select “volunteer.” You’ll receive a free meal and event t-shirt! \nQuestions? Call the AAUW at 252-333-1510 \nRegister to participate and support our partner!
URL:https://obrf.org/event/albemarle-area-united-way-bocce-beer-bites/
LOCATION:Waterfront Park\, 508 S Water St\, Elizabeth City\, NC\, 27909
ATTACH;FMTTYPE=image/jpeg:https://obrf.org/wp-content/uploads/2024/03/Bocce-Beer-Bites-event.jpg
END:VEVENT
BEGIN:VEVENT
DTSTART;TZID=America/New_York:20250918T173000
DTEND;TZID=America/New_York:20250918T203000
DTSTAMP:20260423T195421
CREATED:20250707T172300Z
LAST-MODIFIED:20250707T172300Z
UID:7701-1758216600-1758227400@obrf.org
SUMMARY:Acoustic Sunset at Sanctuary Vineyards
DESCRIPTION:Join us at Sanctuary Vineyards for this Acoustic Sunset Wine Down on September 18th featuring live music\, beer\, wine\, and food trucks\, with proceeds benefiting the Outer Banks Relief Foundation. This event is free to attend\, family and pet friendly\, and outdoors.
URL:https://obrf.org/event/acoustic-sunset-at-sanctuary-vineyards/
LOCATION:Sanctuary Vineyards\, 7005 Caratoke Hwy\, Jarvisburg\, NC\, 27947
CATEGORIES:Outer Banks Relief Foundation Charity Events
ATTACH;FMTTYPE=image/jpeg:https://obrf.org/wp-content/uploads/2025/07/Acoustic-Sunset-2025-event.jpg
END:VEVENT
BEGIN:VEVENT
DTSTART;VALUE=DATE:20250927
DTEND;VALUE=DATE:20250928
DTSTAMP:20260423T195421
CREATED:20210831T161537Z
LAST-MODIFIED:20250204T160237Z
UID:6848-1758931200-1759017599@obrf.org
SUMMARY:Throwdown Surf Classic
DESCRIPTION:The Throwdown Surf Classic is brought to you by the Throwdown Youth Foundation\, a 501c3 nonprofit. This event raises money to give back and support our local community where there is a need. The Throwdown has raised $245\,000 overall to support local families via donations to the Outer Banks Relief Foundation. Visit https://www.facebook.com/throwdownsurfclassic for more information.
URL:https://obrf.org/event/throwdown-surf-classic/
LOCATION:Chicahauk Beach Access\, 96A Ocean Blvd\, Southern Shores\, NC\, 27949\, United States
CATEGORIES:Outer Banks Relief Foundation Charity Events
ATTACH;FMTTYPE=image/jpeg:https://obrf.org/wp-content/uploads/2021/08/Throwdown-Surf-Classic-OBRF-2024.jpg
END:VEVENT
BEGIN:VEVENT
DTSTART;VALUE=DATE:20251004
DTEND;VALUE=DATE:20251006
DTSTAMP:20260423T195421
CREATED:20210910T185157Z
LAST-MODIFIED:20250707T170818Z
UID:6870-1759536000-1759708799@obrf.org
SUMMARY:Which Craft Surf Gathering
DESCRIPTION:It’s a celebration of surf culture\, community\, and giving back! Join us for the annual surf contest fundraiser on October 4th & 5th at Jennette’s Pier. 100% of proceeds benefit the Outer Banks Relief Foundation. Visit https://www.instagram.com/which_craft_surf/ for more information.
URL:https://obrf.org/event/which-craft-surf-gathering/
LOCATION:Jennette’s Pier\, 7223 S Virginia Dare Trail\, Nags Head\, 27959
CATEGORIES:Outer Banks Relief Foundation Charity Events
ATTACH;FMTTYPE=image/jpeg:https://obrf.org/wp-content/uploads/2021/09/Whichcraft-Surf-Gathering-2025-Event-.jpg
END:VEVENT
BEGIN:VEVENT
DTSTART;TZID=America/New_York:20260509T110000
DTEND;TZID=America/New_York:20260509T150000
DTSTAMP:20260423T195421
CREATED:20220603T203458Z
LAST-MODIFIED:20260224T175918Z
UID:7054-1778324400-1778338800@obrf.org
SUMMARY:Couture by the Shore
DESCRIPTION:Party Animal: Get Wild for Relief\n\nCouture by the Shore is an annual luncheon\, fashion show\, and silent auction shopping experience to support the Outer Banks Relief Foundation’s work assisting local families facing tragedies. \nTickets will be available for purchase beginning mid-April at Birthday Suits\, Bloom\, Foxy Flamingo\, French Door\, Hairoics Boutique\, Life’s A Beach\, Salty Skies\, Sojourn\, The Cottage Shop\, The Shop Boutique\, Untucked\, Whalebone Surf Shop. Follow instagram.com/obxcouture for event updates or call the Outer Banks Relief Foundation at 252-261-2004.\n\nWe’d like to give a special shout-out to our retailers who help make Couture by the Shore an incredible fun-filled fashion event with purpose each year. Without their help\, we could not raise the funds necessary to support our mission. Let’s show them our support.
URL:https://obrf.org/event/couture-by-the-shore-2026/
LOCATION:Duck Woods Country Club\, 50 S Dogwood Trl\, Kitty Hawk\, 27949\, United States
CATEGORIES:Outer Banks Relief Foundation Charity Events
ATTACH;FMTTYPE=image/jpeg:https://obrf.org/wp-content/uploads/2026/02/Couture-by-the-Shore-2026-event-ext.jpg
END:VEVENT
END:VCALENDAR